BEGIN:VCALENDAR
VERSION:2.0
PRODID:-//Keystone Region : Porsche Club of America - ECPv6.15.18//NONSGML v1.0//EN
CALSCALE:GREGORIAN
METHOD:PUBLISH
X-ORIGINAL-URL:https://key.pca.org
X-WR-CALDESC:Events for Keystone Region : Porsche Club of America
REFRESH-INTERVAL;VALUE=DURATION:PT1H
X-Robots-Tag:noindex
X-PUBLISHED-TTL:PT1H
BEGIN:VTIMEZONE
TZID:UTC
BEGIN:STANDARD
TZOFFSETFROM:+0000
TZOFFSETTO:+0000
TZNAME:UTC
DTSTART:20240101T000000
END:STANDARD
END:VTIMEZONE
BEGIN:VEVENT
DTSTART;TZID=UTC:20260314T100000
DTEND;TZID=UTC:20260314T120000
DTSTAMP:20260420T003028
CREATED:20230221T031645Z
LAST-MODIFIED:20260209T232526Z
UID:278-1773482400-1773489600@key.pca.org
SUMMARY:Cars & Coffee\, March
DESCRIPTION:Come join us for Keystone Region’s Cars & Coffee.  While we’re waiting for Porsche driving weather\, we’ll convene for our second Cars and Coffee Breakfast of the year. Come out and join us! \nRSVP to: dan_crust@comcast.net\nRSVP by: March 10th
URL:https://key.pca.org/event/cars-coffee-march/
LOCATION:Breakfast on Boal\, 603 Boal Avenue\, Boalsburg\, Pennsylvania\, 16827
CATEGORIES:Car Show,Cars & Coffee
ATTACH;FMTTYPE=image/jpeg:https://key.pca.org/wp-content/uploads/2023/02/Calendar-CarsAndCoffee.jpg
END:VEVENT
BEGIN:VEVENT
DTSTART;TZID=UTC:20260221T100000
DTEND;TZID=UTC:20260221T120000
DTSTAMP:20260420T003028
CREATED:20250103T170056Z
LAST-MODIFIED:20260209T232356Z
UID:1360-1771668000-1771675200@key.pca.org
SUMMARY:Cars & Coffee\, February
DESCRIPTION:While we’re waiting for Porsche driving weather\, we’ll convene for our first Cars and Coffee Breakfast of the year. \nCome out and join us! \nRSVP to: dan_crust@comcast.net\nRSVP by: February 18th
URL:https://key.pca.org/event/cars-coffee-february/
LOCATION:Restless Oaks Restaurant\, 119 Pine Mountain Road\, McElhattan\, PA\, 17748\, United States
CATEGORIES:Car Show,Cars & Coffee
ATTACH;FMTTYPE=image/jpeg:https://key.pca.org/wp-content/uploads/2023/02/Calendar-CarsAndCoffee.jpg
END:VEVENT
BEGIN:VEVENT
DTSTART;TZID=UTC:20251004T080000
DTEND;TZID=UTC:20251004T170000
DTSTAMP:20260420T003028
CREATED:20250103T183423Z
LAST-MODIFIED:20250103T184505Z
UID:1404-1759564800-1759597200@key.pca.org
SUMMARY:Luftgekuhlt 2025 | Luft 11
DESCRIPTION:Luft 11 | Luftgekühlt 2025\nLuftgekühlt is an annual gathering of vintage air-cooled Porsches that celebrates the history of the marque. The name “Luftgekühlt” translates to “air-cooled” in German. The event is a celebration of the air-cooled era of Porsche\, which spans from the company’s inception in 1948 to 1998. Luft is a focus on the cars and the people behind them. \nLuft 10 took place on Oct 5th\, 2024 on the Universal Studios backlot; See event photos here: www.luftgekuhlt.com/pages/luft-10 \n 
URL:https://key.pca.org/event/luftgekuhlt/
LOCATION:Universal Studios Backlot\, 100 Universal City Plaza\, Universal City\, California\, 91608
CATEGORIES:Car Show,Cars & Coffee,Luftgekuhlt
ATTACH;FMTTYPE=image/png:https://key.pca.org/wp-content/uploads/2025/01/Events-Luft11-2025.png
END:VEVENT
BEGIN:VEVENT
DTSTART;TZID=UTC:20250614T080000
DTEND;TZID=UTC:20250615T170000
DTSTAMP:20260420T003028
CREATED:20230221T031138Z
LAST-MODIFIED:20250103T171604Z
UID:274-1749888000-1750006800@key.pca.org
SUMMARY:Bellefonte Cruise 2025
DESCRIPTION:Since 1988 the Bellefonte Cruise has been a popular Father’s Day weekend event in Historic Bellefonte\, Centre county\, PA. If you enjoy the look and history of antique and classic cars\, come experience these treasures with the whole family at the Bellefonte Cruise. Browse a selection of classic\, exotic\, antique\, and European cars and motorcycles all shining in their individual time periods. The car show is sure to amuse car-lovers of all ages. Enjoy the Friday night sock hop\, music\, food and more! Bellefonte is also home to many locally owned restaurants\, unique shops\, and many bed and breakfasts. Come join the fun rain or shine\, for some fun for the whole family this Father’s Day weekend. \nMore information at: www.BellefonteCruise.org
URL:https://key.pca.org/event/bellefonte-cruise/
LOCATION:Centre County Courthouse\, 102 S Allegheny Street\, Bellefonte\, PA\, 16823\, United States
CATEGORIES:Car Show
ATTACH;FMTTYPE=image/png:https://key.pca.org/wp-content/uploads/2025/01/Events-Bellefonte-Cruise-PA-2025.png
END:VEVENT
BEGIN:VEVENT
DTSTART;TZID=UTC:20250307T070000
DTEND;TZID=UTC:20250307T150000
DTSTAMP:20260420T003028
CREATED:20250103T173726Z
LAST-MODIFIED:20250103T173905Z
UID:1374-1741330800-1741359600@key.pca.org
SUMMARY:Werks Reunion : Amelia Island
DESCRIPTION:Werks Reunion : Amelia Island\nPorsche Club of America (PCA) welcomes all Porsche clubs\, owners\, and enthusiasts to the Werks Reunion Amelia Island at The Amelia River Club. Join us to see a breathtaking array of Porsches\, from rare to current models\, and everything in between! \nYou are not required to be a PCA member to participate in this celebration of Porsche automobiles; however\, you must register to Corral or be Judged. Display your cherished car in model-specific Porsche Corrals\, or enter the Porsche Judged Field and compete to win in more than 20 prize categories. \nWerks Reunion was created by the Porsche Club of America as an event to celebrate both the Porsche marque as well as the camaraderie of being an enthusiast. This is not a contest of who has removed dust from the deepest crevices in their Porsche but rather a judged show that rewards a Porsche that has been lovingly maintained and presents itself well on the field. Our judges do not use Porsche Parade Concours score sheets but rather rank the cars according to certain attributes discussed prior to judging. For those who do not wish to have their cars judged\, you may display in the model specific corrals or if the organizers see fit\, on the judged field itself. There are no score sheets returned or protest committees. This is a casual gathering of Porsche enthusiasts focused on having fun rather than solely competition.
URL:https://key.pca.org/event/werks-reunion-amelia-island/
LOCATION:The Amelia River Club\, 4477 Buccaneer Trail\, Amelia Island\, Florida\, 32034
CATEGORIES:Car Show,PCA National,Porsche AG
ATTACH;FMTTYPE=image/jpeg:https://key.pca.org/wp-content/uploads/2025/01/Events-WerksReunion-AmeliaIsland-logo.jpg
END:VEVENT
END:VCALENDAR