BEGIN:VCALENDAR
VERSION:2.0
PRODID:-//Keystone Region : Porsche Club of America - ECPv6.15.18//NONSGML v1.0//EN
CALSCALE:GREGORIAN
METHOD:PUBLISH
X-ORIGINAL-URL:https://key.pca.org
X-WR-CALDESC:Events for Keystone Region : Porsche Club of America
REFRESH-INTERVAL;VALUE=DURATION:PT1H
X-Robots-Tag:noindex
X-PUBLISHED-TTL:PT1H
BEGIN:VTIMEZONE
TZID:UTC
BEGIN:STANDARD
TZOFFSETFROM:+0000
TZOFFSETTO:+0000
TZNAME:UTC
DTSTART:20240101T000000
END:STANDARD
END:VTIMEZONE
BEGIN:VEVENT
DTSTART;VALUE=DATE:20250830
DTEND;VALUE=DATE:20250907
DTSTAMP:20260420T233614
CREATED:20240228T231516Z
LAST-MODIFIED:20250103T175602Z
UID:1250-1756512000-1757203199@key.pca.org
SUMMARY:PCA Treffen At Sea
DESCRIPTION:Treffen At Sea 2025 : The Historic Eastern Seaboard\nSeven days of fun on the historic Eastern Seaboard! This 70th-anniversary cruise will showcase the history and majesty of the East Coast. We’ll stop in Newport\, Boston\, Portland\, Saint John\, and Halifax along the way\, where you’ll find in-port Porsche events. You’ll also enjoy special entertainment\, Porsche celebrity appearances\, seminars\, competitions\, dinners\, and the highly anticipated Porsche Diecast Concours at Sea. \nDestinations on this Historic Eastern Seaboard cruise: \n\n\n\nNewport\, Rhode Island\nBoston\, Massachusetts\nPortland\, Maine\nSaint John\, New Brunswick\, Canada\nHalifax\, Nova Scotia\, Canada
URL:https://key.pca.org/event/pca-treffen-at-sea/
CATEGORIES:Concours d'Elegance,PCA National,Social Event,Treffen
ATTACH;FMTTYPE=image/png:https://key.pca.org/wp-content/uploads/2025/01/Events-Treffen-at-Sea-NewEngland2025.png
END:VEVENT
END:VCALENDAR