BEGIN:VCALENDAR
VERSION:2.0
PRODID:-//Keystone Region : Porsche Club of America - ECPv6.15.18//NONSGML v1.0//EN
CALSCALE:GREGORIAN
METHOD:PUBLISH
X-ORIGINAL-URL:https://key.pca.org
X-WR-CALDESC:Events for Keystone Region : Porsche Club of America
REFRESH-INTERVAL;VALUE=DURATION:PT1H
X-Robots-Tag:noindex
X-PUBLISHED-TTL:PT1H
BEGIN:VTIMEZONE
TZID:UTC
BEGIN:STANDARD
TZOFFSETFROM:+0000
TZOFFSETTO:+0000
TZNAME:UTC
DTSTART:20240101T000000
END:STANDARD
END:VTIMEZONE
BEGIN:VEVENT
DTSTART;TZID=UTC:20250321T183000
DTEND;TZID=UTC:20250321T210000
DTSTAMP:20260421T012506
CREATED:20250216T013415Z
LAST-MODIFIED:20250216T013815Z
UID:1491-1742581800-1742590800@key.pca.org
SUMMARY:Dinner Series : Blonde Bistro
DESCRIPTION:We are going to kick-off our Dinner Series at The Blonde Bistro. Those of you that have joined us here in the past know this is always a great venue – If you have not been here before\, you are in for a treat at this quaint little Italian themed gem of a restaurant. Chef Ciara Semack and her staff always welcome our group and treat us like family. It clearly shows that she believes anyone can be successful in the kitchen; it just takes time\, a smile\, and lots of fun! As a reminder the Blonde Bistro is a casual BYOB establishment\, so feel free to bring your favorite wine or beer along for the evening.
URL:https://key.pca.org/event/dinner-series-blonde-bistro/
LOCATION:The Blonde Bistro\, 226 Nittany Valley Drive\, Bellefonte\, Pennsylvania\, 16823
CATEGORIES:Dinner Series
ATTACH;FMTTYPE=image/jpeg:https://key.pca.org/wp-content/uploads/2025/02/Events-The-Blonde-Bistro.jpg
END:VEVENT
END:VCALENDAR