BEGIN:VCALENDAR
VERSION:2.0
PRODID:-//Keystone Region : Porsche Club of America - ECPv6.15.18//NONSGML v1.0//EN
CALSCALE:GREGORIAN
METHOD:PUBLISH
X-WR-CALNAME:Keystone Region : Porsche Club of America
X-ORIGINAL-URL:https://key.pca.org
X-WR-CALDESC:Events for Keystone Region : Porsche Club of America
REFRESH-INTERVAL;VALUE=DURATION:PT1H
X-Robots-Tag:noindex
X-PUBLISHED-TTL:PT1H
BEGIN:VTIMEZONE
TZID:UTC
BEGIN:STANDARD
TZOFFSETFROM:+0000
TZOFFSETTO:+0000
TZNAME:UTC
DTSTART:20240101T000000
END:STANDARD
END:VTIMEZONE
BEGIN:VEVENT
DTSTART;TZID=UTC:20250411T183000
DTEND;TZID=UTC:20250411T210000
DTSTAMP:20260421T000224
CREATED:20250216T014753Z
LAST-MODIFIED:20250216T015012Z
UID:1501-1744396200-1744405200@key.pca.org
SUMMARY:Dinner Series : Rusty Rail Brewing
DESCRIPTION:For the April Dinner Series we will be heading to the Rusty Rail Brewing. Those of you that have joined us here in the past know this is always a great venue – If you have not been here before\, you are in for a treat at this gem of a brewery.
URL:https://key.pca.org/event/dinner-series-rusty-rail-brewing/
LOCATION:Rusty Rail Brewing Company\, 5 North Eighth Street\, Mifflinburg\, Pennsylvania\, 17844
CATEGORIES:Dinner Series
ATTACH;FMTTYPE=image/png:https://key.pca.org/wp-content/uploads/2025/02/Events-Rusty-Rail-Brewing.png
END:VEVENT
END:VCALENDAR