BEGIN:VCALENDAR
VERSION:2.0
PRODID:-//Keystone Region : Porsche Club of America - ECPv6.15.18//NONSGML v1.0//EN
CALSCALE:GREGORIAN
METHOD:PUBLISH
X-ORIGINAL-URL:https://key.pca.org
X-WR-CALDESC:Events for Keystone Region : Porsche Club of America
REFRESH-INTERVAL;VALUE=DURATION:PT1H
X-Robots-Tag:noindex
X-PUBLISHED-TTL:PT1H
BEGIN:VTIMEZONE
TZID:UTC
BEGIN:STANDARD
TZOFFSETFROM:+0000
TZOFFSETTO:+0000
TZNAME:UTC
DTSTART:20240101T000000
END:STANDARD
END:VTIMEZONE
BEGIN:VEVENT
DTSTART;TZID=UTC:20250509T183000
DTEND;TZID=UTC:20250509T210000
DTSTAMP:20260420T211335
CREATED:20250216T014036Z
LAST-MODIFIED:20250216T015133Z
UID:1496-1746815400-1746824400@key.pca.org
SUMMARY:Dinner Series : American Ale House
DESCRIPTION:For the May Dinner Series we will be heading to the American Ale House & Grill. Those of you that have joined us here in the past know this is always a great venue – If you have not been here before\, you are in for a treat at this gem of a restaurant.
URL:https://key.pca.org/event/dinner-series-american-ale-house/
LOCATION:American Ale House\, 821 Cricklewood Drive\, State College\, pen\, 16803
CATEGORIES:Dinner Series
ATTACH;FMTTYPE=image/jpeg:https://key.pca.org/wp-content/uploads/2025/02/Events-American-Ale-House.jpg
END:VEVENT
END:VCALENDAR