BEGIN:VCALENDAR
VERSION:2.0
PRODID:-//Keystone Region : Porsche Club of America - ECPv6.15.18//NONSGML v1.0//EN
CALSCALE:GREGORIAN
METHOD:PUBLISH
X-ORIGINAL-URL:https://key.pca.org
X-WR-CALDESC:Events for Keystone Region : Porsche Club of America
REFRESH-INTERVAL;VALUE=DURATION:PT1H
X-Robots-Tag:noindex
X-PUBLISHED-TTL:PT1H
BEGIN:VTIMEZONE
TZID:UTC
BEGIN:STANDARD
TZOFFSETFROM:+0000
TZOFFSETTO:+0000
TZNAME:UTC
DTSTART:20240101T000000
END:STANDARD
END:VTIMEZONE
BEGIN:VEVENT
DTSTART;VALUE=DATE:20250425
DTEND;VALUE=DATE:20250428
DTSTAMP:20260420T181943
CREATED:20230221T033751Z
LAST-MODIFIED:20250103T181127Z
UID:289-1745539200-1745798399@key.pca.org
SUMMARY:Opening Weekend at The Glen
DESCRIPTION:Opening Weekend at The Glen\nOPENING WEEKEND — This is Opening Weekend at The Glen (April 25-27\, 2025)\, providing fans with the opportunity to drive their own vehicle on the track to benefit the facility’s Racing and Community Enrichment (R.A.C.E.) Foundation. Individuals and car clubs are both welcome to participate in this unique opportunity to experience one of the most historic circuits in the world first-hand. \nIMPORTANT NOTE: ALL PARTICIPANTS INSIDE THE VEHICLE MUST PRINT AND BRING THE REQUIRED TRACK WAIVERS TO THE EVENT. ONE WAIVER PER ADULT. CLICK THE BUTTONS BELOW TO DOWNLOAD THE WAIVERS. MINOR WAIVERS ARE REQUIRED FOR PARTICIPANTS UNDER THE AGE OF 18. \nMore information here: www.TheGlen.com/calendar
URL:https://key.pca.org/event/opening-weekend-at-the-glen/
LOCATION:Watkins Glen\, 2790 County Route 16\, Watkins Glen\, NY\, 14891\, United States
CATEGORIES:Motorsport Race
ATTACH;FMTTYPE=image/jpeg:https://key.pca.org/wp-content/uploads/2023/02/Calendar-WatkinsGlen.jpg
END:VEVENT
END:VCALENDAR