BEGIN:VCALENDAR
VERSION:2.0
PRODID:-//Keystone Region : Porsche Club of America - ECPv6.15.18//NONSGML v1.0//EN
CALSCALE:GREGORIAN
METHOD:PUBLISH
X-ORIGINAL-URL:https://key.pca.org
X-WR-CALDESC:Events for Keystone Region : Porsche Club of America
REFRESH-INTERVAL;VALUE=DURATION:PT1H
X-Robots-Tag:noindex
X-PUBLISHED-TTL:PT1H
BEGIN:VTIMEZONE
TZID:UTC
BEGIN:STANDARD
TZOFFSETFROM:+0000
TZOFFSETTO:+0000
TZNAME:UTC
DTSTART:20240101T000000
END:STANDARD
END:VTIMEZONE
BEGIN:VEVENT
DTSTART;VALUE=DATE:20250619
DTEND;VALUE=DATE:20250623
DTSTAMP:20260420T165304
CREATED:20230221T033355Z
LAST-MODIFIED:20250103T180740Z
UID:284-1750291200-1750636799@key.pca.org
SUMMARY:Six Hours of the Glen
DESCRIPTION:Sahlen’s Six Hours of The Glen\nOne of the most prestigious sportscar races in North America\, the IMSA WeatherTech SportsCar Championship returns in late June with the Sahlen’s Six Hours of The Glen (June 19-22\, 2025). The third leg of the Michelin Endurance Challenge features world class drivers and a diverse range of premier Prototype and GT manufacturers. The weekend of nearly 24 hours of on-track activity also includes the Michelin Pilot Challenge Tioga Downs 120\, MX-5 Cup\, Porsche Carrera Cup\, and Lamborghini Super Trofeo. \nMore information: www.theglen.com/events/sahlens-six-hours-of-the-glen/
URL:https://key.pca.org/event/six-hours-of-the-glen/
LOCATION:Watkins Glen\, 2790 County Route 16\, Watkins Glen\, NY\, 14891\, United States
CATEGORIES:Motorsport Race
ATTACH;FMTTYPE=image/jpeg:https://key.pca.org/wp-content/uploads/2023/02/Calendar-WatkinsGlen.jpg
END:VEVENT
END:VCALENDAR