BEGIN:VCALENDAR
VERSION:2.0
PRODID:-//Keystone Region : Porsche Club of America - ECPv6.15.18//NONSGML v1.0//EN
CALSCALE:GREGORIAN
METHOD:PUBLISH
X-WR-CALNAME:Keystone Region : Porsche Club of America
X-ORIGINAL-URL:https://key.pca.org
X-WR-CALDESC:Events for Keystone Region : Porsche Club of America
REFRESH-INTERVAL;VALUE=DURATION:PT1H
X-Robots-Tag:noindex
X-PUBLISHED-TTL:PT1H
BEGIN:VTIMEZONE
TZID:UTC
BEGIN:STANDARD
TZOFFSETFROM:+0000
TZOFFSETTO:+0000
TZNAME:UTC
DTSTART:20250101T000000
END:STANDARD
END:VTIMEZONE
BEGIN:VEVENT
DTSTART;TZID=UTC:20260814T070000
DTEND;TZID=UTC:20260814T150000
DTSTAMP:20260420T002356
CREATED:20230221T005731Z
LAST-MODIFIED:20251231T222708Z
UID:249-1786690800-1786719600@key.pca.org
SUMMARY:Werks Reunion : Monterey
DESCRIPTION:Werks Reunion : Monterey\nPorsche Club of America (PCA) welcomes all Porsche clubs\, owners\, and enthusiasts to the tenth annual Werks Reunion Monterey. Join us at the Monterey Pines Golf Course to see a breathtaking array of Porsches\, from rare to current models\, and everything in between! \nYou are not required to be a PCA member to participate in this celebration of Porsche automobiles; however\, you must register to Corral or be Judged. Display your cherished car in model-specific Porsche Corrals\, or enter the Porsche Judged Field and compete to win in more than 20 prize categories. \nWerks Reunion was created by the Porsche Club of America as an event to celebrate both the Porsche marque as well as the camaraderie of being an enthusiast. This is not a contest of who has removed dust from the deepest crevices in their Porsche but rather a judged show that rewards a Porsche that has been lovingly maintained and presents itself well on the field. Our judges do not use Porsche Parade Concours score sheets but rather rank the cars according to certain attributes discussed prior to judging. For those who do not wish to have their cars judged\, you may display in the model specific corrals or if the organizers see fit\, on the judged field itself. There are no score sheets returned or protest committees. This is a casual gathering of Porsche enthusiasts focused on having fun rather than solely competition.
URL:https://key.pca.org/event/werks-reunion-monterey/
LOCATION:Monterey Pines Golf Course\, 1250 Garden Road\, Monterey\, CA\, 93940\, United States
CATEGORIES:Car Show,PCA National,Porsche AG
ATTACH;FMTTYPE=image/jpeg:https://key.pca.org/wp-content/uploads/2023/02/Calendar-WerksReunion-Monterey.jpg
END:VEVENT
END:VCALENDAR