BEGIN:VCALENDAR
VERSION:2.0
PRODID:-//Keystone Region : Porsche Club of America - ECPv6.15.18//NONSGML v1.0//EN
CALSCALE:GREGORIAN
METHOD:PUBLISH
X-ORIGINAL-URL:https://key.pca.org
X-WR-CALDESC:Events for Keystone Region : Porsche Club of America
REFRESH-INTERVAL;VALUE=DURATION:PT1H
X-Robots-Tag:noindex
X-PUBLISHED-TTL:PT1H
BEGIN:VTIMEZONE
TZID:UTC
BEGIN:STANDARD
TZOFFSETFROM:+0000
TZOFFSETTO:+0000
TZNAME:UTC
DTSTART:20250101T000000
END:STANDARD
END:VTIMEZONE
BEGIN:VEVENT
DTSTART;TZID=UTC:20260124T180000
DTEND;TZID=UTC:20260124T210000
DTSTAMP:20260420T074618
CREATED:20250216T015519Z
LAST-MODIFIED:20251231T222351Z
UID:1505-1769277600-1769288400@key.pca.org
SUMMARY:Annual Holiday Party and New Member Social
DESCRIPTION:Annual Holiday Party and New Member Social\nI hope everyone is having a wonderful holiday season. The Keystone Porsche Club is extending it a little farther with our Holiday Party and New Member Social on Saturday\, January 24th. Come out for a fun evening with your fellow enthusiasts at the Wyndham Garden in Boalsburg. \nWe will have an open bar cocktail hour beginning at 6 PM\, followed by a full buffet dinner with three main courses available at 7PM. The open bar will continue until 8 PM. \nThe cost is only $25 per person\, with the balance subsidized by the club. New members and their guests attend for free\, so please come out and meet old (and new) friends and learn more about upcoming activities. \nRSVP to Dan Crust at dan_crust@comcast.net by January 15th!
URL:https://key.pca.org/event/annual-holiday-party/
LOCATION:Wyndham Garden State College\, 310 Elks Club Road\, Boalsburg\, Pennsylvania\, 16827
CATEGORIES:Social Event
ATTACH;FMTTYPE=image/jpeg:https://key.pca.org/wp-content/uploads/2025/02/Events-Annual-Holiday-Party.jpg
END:VEVENT
END:VCALENDAR