BEGIN:VCALENDAR
VERSION:2.0
PRODID:-//Keystone Region : Porsche Club of America - ECPv6.15.18//NONSGML v1.0//EN
CALSCALE:GREGORIAN
METHOD:PUBLISH
X-ORIGINAL-URL:https://key.pca.org
X-WR-CALDESC:Events for Keystone Region : Porsche Club of America
REFRESH-INTERVAL;VALUE=DURATION:PT1H
X-Robots-Tag:noindex
X-PUBLISHED-TTL:PT1H
BEGIN:VTIMEZONE
TZID:UTC
BEGIN:STANDARD
TZOFFSETFROM:+0000
TZOFFSETTO:+0000
TZNAME:UTC
DTSTART:20240101T000000
END:STANDARD
END:VTIMEZONE
BEGIN:VEVENT
DTSTART;TZID=UTC:20251101T100000
DTEND;TZID=UTC:20251101T130000
DTSTAMP:20260420T132559
CREATED:20240228T233812Z
LAST-MODIFIED:20260209T231446Z
UID:1258-1761991200-1762002000@key.pca.org
SUMMARY:Cars & Coffee\, November
DESCRIPTION:Come join us for our popular monthly Cars & Coffee. We will be meeting again at Restless Oaks Restaurant\, a great location for breakfast and socializing with other Keystone members. We hope to see you there. \nRSVP to Keystone Region (KeystonePCA@gmail.com)
URL:https://key.pca.org/event/cars-coffee-november/
LOCATION:Restless Oaks Restaurant\, 119 Pine Mountain Road\, McElhattan\, PA\, 17748\, United States
CATEGORIES:Cars & Coffee,Social Event
ATTACH;FMTTYPE=image/jpeg:https://key.pca.org/wp-content/uploads/2023/02/Calendar-CarsAndCoffee.jpg
END:VEVENT
END:VCALENDAR